BEGIN:VCALENDAR
VERSION:2.0
PRODID:-//#WELOVEAQUASPORTS - ECPv6.15.20//NONSGML v1.0//EN
CALSCALE:GREGORIAN
METHOD:PUBLISH
X-ORIGINAL-URL:https://weloveaquasports.com
X-WR-CALDESC:Veranstaltungen für #WELOVEAQUASPORTS
REFRESH-INTERVAL;VALUE=DURATION:PT1H
X-Robots-Tag:noindex
X-PUBLISHED-TTL:PT1H
BEGIN:VTIMEZONE
TZID:Europe/Berlin
BEGIN:DAYLIGHT
TZOFFSETFROM:+0100
TZOFFSETTO:+0200
TZNAME:CEST
DTSTART:20240331T010000
END:DAYLIGHT
BEGIN:STANDARD
TZOFFSETFROM:+0200
TZOFFSETTO:+0100
TZNAME:CET
DTSTART:20241027T010000
END:STANDARD
BEGIN:DAYLIGHT
TZOFFSETFROM:+0100
TZOFFSETTO:+0200
TZNAME:CEST
DTSTART:20250330T010000
END:DAYLIGHT
BEGIN:STANDARD
TZOFFSETFROM:+0200
TZOFFSETTO:+0100
TZNAME:CET
DTSTART:20251026T010000
END:STANDARD
BEGIN:DAYLIGHT
TZOFFSETFROM:+0100
TZOFFSETTO:+0200
TZNAME:CEST
DTSTART:20260329T010000
END:DAYLIGHT
BEGIN:STANDARD
TZOFFSETFROM:+0200
TZOFFSETTO:+0100
TZNAME:CET
DTSTART:20261025T010000
END:STANDARD
END:VTIMEZONE
BEGIN:VEVENT
DTSTART;TZID=Europe/Berlin:20250905T093000
DTEND;TZID=Europe/Berlin:20250905T180000
DTSTAMP:20260424T113721
CREATED:20250122T112919Z
LAST-MODIFIED:20250123T152532Z
UID:2599-1757064600-1757095200@weloveaquasports.com
SUMMARY:Aqua Experience Tour 2025 /// Mücke
DESCRIPTION:Inhalte\nAQUAFITNESS\nAqua-Cardio\, -Core\, -Strong\, Move & Relax\, Aquakoordination\, Aqua Box und Aqua Walking\nSpecial: Tiefwasser \nAQUAKIDS\nBaby- & Kleinkindschwimmen mit den Altersgruppen 3-6 Monate\, 7-9 Monate\, 10-12 Monate\, 13-18 Monate\, 19-24 Monate und 2-3 Jahre.\nWir zeigen euch altersgerechte Erlebniswelten\, Spielstunden und Bewegungslandschaften und geben euch Tipps für abwechslungsreiche Stundenbilder. \nAblauf\n09:30 Einlass\n10:00 – 13:30 AQUAFITNESS\n13:30 – 14:30 Mittagspause\n14:30 – 18:00 AQUAKIDS \nBUCHEN
URL:https://weloveaquasports.com/termin/aqua-experience-tour-2025-muecke/
LOCATION:Aquariohm Mücke\, Merlauer Str. 38\, Mücke\, Hessen\, 35325\, Switzerland
CATEGORIES:AET 25,AQUAFITNESS,LEARN TO SWIM
ATTACH;FMTTYPE=image/jpeg:https://weloveaquasports.com/wp-content/uploads/2025/01/AET-25-Aquariohm-Mücke.jpg
ORGANIZER;CN="akademie F%C3%9CR PR%C3%84VENTION & FITNESS":MAILTO:info@akapraefit.de
END:VEVENT
BEGIN:VEVENT
DTSTART;TZID=Europe/Berlin:20250921T093000
DTEND;TZID=Europe/Berlin:20250921T180000
DTSTAMP:20260424T113721
CREATED:20250122T113815Z
LAST-MODIFIED:20250123T152650Z
UID:2602-1758447000-1758477600@weloveaquasports.com
SUMMARY:Aqua Experience Tour 2025 /// Hamm (Westfalen)
DESCRIPTION:Inhalte\nAQUAFITNESS\nAqua-Cardio\, -Core\, -Strong\, Move & Relax\, Aquakoordination\, Aqua Box und Aqua Walking\nSpecial: Bike & Board \nAQUAKIDS\nBaby- & Kleinkindschwimmen mit den Altersgruppen 3-6 Monate\, 7-9 Monate\, 10-12 Monate\, 13-18 Monate\, 19-24 Monate und 2-3 Jahre.\nWir zeigen euch altersgerechte Erlebniswelten\, Spielstunden und Bewegungslandschaften und geben euch Tipps für abwechslungsreiche Stundenbilder. \nAblauf\n09:30 Einlass\n10:00 – 13:30 AQUAFITNESS\n13:30 – 14:30 Mittagspause\n14:30 – 18:00 AQUAKIDS \nBUCHEN
URL:https://weloveaquasports.com/termin/aqua-experience-tour-2025-hamm-westfalen/
LOCATION:Maximare Erlebnistherme Bad Hamm\, Jürgen-Graef-Allee 2\, Hamm\, Nordrhein-Westfalen\, 59065\, Germany
CATEGORIES:AET 25,AQUAFITNESS,LEARN TO SWIM
ATTACH;FMTTYPE=image/jpeg:https://weloveaquasports.com/wp-content/uploads/2025/01/AET-25-Maximare-Hamm.jpg
ORGANIZER;CN="akademie F%C3%9CR PR%C3%84VENTION & FITNESS":MAILTO:info@akapraefit.de
END:VEVENT
END:VCALENDAR