BEGIN:VCALENDAR
VERSION:2.0
PRODID:-//#WELOVEAQUASPORTS - ECPv6.15.20//NONSGML v1.0//EN
CALSCALE:GREGORIAN
METHOD:PUBLISH
X-WR-CALNAME:#WELOVEAQUASPORTS
X-ORIGINAL-URL:https://weloveaquasports.com
X-WR-CALDESC:Veranstaltungen für #WELOVEAQUASPORTS
REFRESH-INTERVAL;VALUE=DURATION:PT1H
X-Robots-Tag:noindex
X-PUBLISHED-TTL:PT1H
BEGIN:VTIMEZONE
TZID:Europe/Berlin
BEGIN:DAYLIGHT
TZOFFSETFROM:+0100
TZOFFSETTO:+0200
TZNAME:CEST
DTSTART:20240331T010000
END:DAYLIGHT
BEGIN:STANDARD
TZOFFSETFROM:+0200
TZOFFSETTO:+0100
TZNAME:CET
DTSTART:20241027T010000
END:STANDARD
BEGIN:DAYLIGHT
TZOFFSETFROM:+0100
TZOFFSETTO:+0200
TZNAME:CEST
DTSTART:20250330T010000
END:DAYLIGHT
BEGIN:STANDARD
TZOFFSETFROM:+0200
TZOFFSETTO:+0100
TZNAME:CET
DTSTART:20251026T010000
END:STANDARD
BEGIN:DAYLIGHT
TZOFFSETFROM:+0100
TZOFFSETTO:+0200
TZNAME:CEST
DTSTART:20260329T010000
END:DAYLIGHT
BEGIN:STANDARD
TZOFFSETFROM:+0200
TZOFFSETTO:+0100
TZNAME:CET
DTSTART:20261025T010000
END:STANDARD
END:VTIMEZONE
BEGIN:VEVENT
DTSTART;VALUE=DATE:20250301
DTEND;VALUE=DATE:20250302
DTSTAMP:20260424T214808
CREATED:20250122T120744Z
LAST-MODIFIED:20250122T121219Z
UID:2615-1740787200-1740873599@weloveaquasports.com
SUMMARY:Aqua Inspiracje (Krakow\, Polen)
DESCRIPTION:Wir laden Sie herzlich ein\, am Kongress Aqua Inspiracje 2025 teilzunehmen! \nEs ist eine perfekte Veranstaltung für Menschen\, die nach neuen Ideen suchen\, um Aqua-Fitness-Kurse durchzuführen. \nDies ist die Zeit\, in der sich Instruktoren aus ganz Polen treffen\, um Erfahrungen auszutauschen\, Wissen zu erwerben\, Leidenschaft zu entwickeln und neue Energie zu spüren. \nDas Programm beinhaltet: \n13 INSPIRIERENDE LEKTIONEN IM WASSER: \n+ 3 ABSCHLUSSSTUNDEN der Teilnehmer des AQUA FITNESS TALENT Wettbewerbs \nBuchen
URL:https://weloveaquasports.com/termin/aqua-inspiracje-krakow-polen/
CATEGORIES:AQUAFITNESS
ATTACH;FMTTYPE=image/png:https://weloveaquasports.com/wp-content/uploads/2024/05/189-TWM-190.png
END:VEVENT
BEGIN:VEVENT
DTSTART;TZID=Europe/Berlin:20250321T173000
DTEND;TZID=Europe/Berlin:20250321T220000
DTSTAMP:20260424T214808
CREATED:20250211T132109Z
LAST-MODIFIED:20250211T132153Z
UID:2693-1742578200-1742594400@weloveaquasports.com
SUMMARY:Badepark Bentheim Fitness-Night
DESCRIPTION:Entdecke die Welt des Aquafit!\nDer Badepark Bentheim lädt euch zu einem sportlichen Highlight ein: Am Freitag\, den 21. März 2025\, findet von 18:00 bis 22:00 Uhr die Fitness-Night statt! Taucht ein in die vielfältige Welt der Aquafitness und erlebt ein abwechslungsreiches Programm\, das euch in Bewegung bringt. Unterstützt wird das Event unter anderem von BECO. \nWas euch erwartet: \n\nTeilnahme an bis zu drei verschiedenen Aquafitness-Kursen – von Aqua Tabata bis Funktionstraining\nEine spannende Verlosung mit attraktiven Preisen\, gesponsert von BECO und der FormBAR Gildehaus\nEin inspirierender Vortrag zum Thema „Gesundes Leben – Ernährung und Sport“\, durchgeführt von der FormBAR Gildehaus\nZeit für Austausch\, Fragen und Entspannung\nKulinarische Köstlichkeiten zur Stärkung\nEin Glas Sekt zum feierlichen Abschluss\n\nOrganisatorische Details: \n\nEintritt: 19\,50 € (keine Rabatte oder Ermäßigungen möglich)\nTeilnahme: Ab 16 Jahren\nTickets: Die Anzahl ist begrenzt\, daher schnell sichern! Einlass ab 17:30 Uhr\, Treffpunkt am Sportbecken um 18:00 Uhr\, Start um 18:15 Uhr\nWichtiger Hinweis: Die Tickets sind vom Umtausch und der Rücknahme ausgeschlossen\n\nLass dir dieses besondere Event nicht entgehen und entdecke\, wie vielseitig und effektiv Aquafitness sein kann! Tickets und eine Übersicht aller Kurse findest du hier. \nWir freuen uns auf eine sportliche und energiegeladene Fitness-Night mit euch! \nBUCHEN
URL:https://weloveaquasports.com/termin/badepark-bentheim-fitness-night/
LOCATION:Badepark Bentheim\, Zum Ferienpark 1\, Bad Bentheim\, 48455\, Germany
CATEGORIES:AQUAFITNESS
ATTACH;FMTTYPE=image/jpeg:https://weloveaquasports.com/wp-content/uploads/2025/02/Fitness-Night-Badepark-Bentheim.jpg
ORGANIZER;CN="Badepark Bentheim":MAILTO:info‎@‎badepark-bentheim.de
END:VEVENT
BEGIN:VEVENT
DTSTART;TZID=Europe/Berlin:20250322T140000
DTEND;TZID=Europe/Berlin:20250322T180000
DTSTAMP:20260424T214808
CREATED:20250128T210042Z
LAST-MODIFIED:20250128T210042Z
UID:2687-1742652000-1742666400@weloveaquasports.com
SUMMARY:Aqua Experience Tour 2025 /// Elmshorn /// Zusatztermin
DESCRIPTION:Inhalte\nAQUAFITNESS\nAqua-Cardio\, -Core\, -Strong\, Move & Relax\, Aquakoordination\, Aqua Box und Aqua Walking\nSpecial: Aqua Bike & Aqua Jumper \nAblauf\n14:00 Einlass\n14:30 – 18:00 AQUAFITNESS \nBUCHEN
URL:https://weloveaquasports.com/termin/aqua-experience-tour-2025-elmshorn-zusatztermin/
CATEGORIES:AET 25,AQUAFITNESS
ATTACH;FMTTYPE=image/jpeg:https://weloveaquasports.com/wp-content/uploads/2025/01/AET-25-Badepark-Elmshorn.jpg
END:VEVENT
BEGIN:VEVENT
DTSTART;TZID=Europe/Berlin:20250323T093000
DTEND;TZID=Europe/Berlin:20250323T180000
DTSTAMP:20260424T214808
CREATED:20250122T080153Z
LAST-MODIFIED:20250123T151637Z
UID:2578-1742722200-1742752800@weloveaquasports.com
SUMMARY:Aqua Experience Tour 2025 /// Elmshorn
DESCRIPTION:Inhalte\nAQUAFITNESS\nAqua-Cardio\, -Core\, -Strong\, Move & Relax\, Aquakoordination\, Aqua Box und Aqua Walking\nSpecial: Aqua Bike & Aqua Jumper \nAQUAKIDS\nBaby- & Kleinkindschwimmen mit den Altersgruppen 3-6 Monate\, 7-9 Monate\, 10-12 Monate\, 13-18 Monate\, 19-24 Monate und 2-3 Jahre.\nWir zeigen euch altersgerechte Erlebniswelten\, Spielstunden und Bewegungslandschaften und geben euch Tipps für abwechslungsreiche Stundenbilder. \nAblauf\n09:30 Einlass\n10:00 – 13:30 AQUAFITNESS\n13:30 – 14:30 Mittagspause\n14:30 – 18:00 AQUAKIDS \nBUCHEN
URL:https://weloveaquasports.com/termin/aqua-experience-tour-2025-elmshorn/
LOCATION:Badepark Elmshorn\, Zum Krückaupark\, Elmshorn\, 25337\, Germany
CATEGORIES:AET 25,AQUAFITNESS,LEARN TO SWIM
ATTACH;FMTTYPE=image/jpeg:https://weloveaquasports.com/wp-content/uploads/2025/01/AET-25-Badepark-Elmshorn.jpg
ORGANIZER;CN="akademie F%C3%9CR PR%C3%84VENTION & FITNESS":MAILTO:info@akapraefit.de
END:VEVENT
END:VCALENDAR