BEGIN:VCALENDAR
VERSION:2.0
PRODID:-//#WELOVEAQUASPORTS - ECPv6.15.20//NONSGML v1.0//EN
CALSCALE:GREGORIAN
METHOD:PUBLISH
X-WR-CALNAME:#WELOVEAQUASPORTS
X-ORIGINAL-URL:https://weloveaquasports.com
X-WR-CALDESC:Veranstaltungen für #WELOVEAQUASPORTS
REFRESH-INTERVAL;VALUE=DURATION:PT1H
X-Robots-Tag:noindex
X-PUBLISHED-TTL:PT1H
BEGIN:VTIMEZONE
TZID:Europe/Berlin
BEGIN:DAYLIGHT
TZOFFSETFROM:+0100
TZOFFSETTO:+0200
TZNAME:CEST
DTSTART:20250330T010000
END:DAYLIGHT
BEGIN:STANDARD
TZOFFSETFROM:+0200
TZOFFSETTO:+0100
TZNAME:CET
DTSTART:20251026T010000
END:STANDARD
BEGIN:DAYLIGHT
TZOFFSETFROM:+0100
TZOFFSETTO:+0200
TZNAME:CEST
DTSTART:20260329T010000
END:DAYLIGHT
BEGIN:STANDARD
TZOFFSETFROM:+0200
TZOFFSETTO:+0100
TZNAME:CET
DTSTART:20261025T010000
END:STANDARD
BEGIN:DAYLIGHT
TZOFFSETFROM:+0100
TZOFFSETTO:+0200
TZNAME:CEST
DTSTART:20270328T010000
END:DAYLIGHT
BEGIN:STANDARD
TZOFFSETFROM:+0200
TZOFFSETTO:+0100
TZNAME:CET
DTSTART:20271031T010000
END:STANDARD
END:VTIMEZONE
BEGIN:VEVENT
DTSTART;VALUE=DATE:20260307
DTEND;VALUE=DATE:20260308
DTSTAMP:20260424T022801
CREATED:20260213T111842Z
LAST-MODIFIED:20260223T093517Z
UID:3085-1772841600-1772927999@weloveaquasports.com
SUMMARY:20. Aqua Festival
DESCRIPTION:Das 20. Aqua Festival ist eine anerkannte Fortbildung für Aqua-Fitness-Trainer:innen und wird offiziell vom Aqua-Fitness Verband Deutschland e.V. zertifiziert. Im Fokus stehen Innovation\, Motivation und die neuesten Entwicklungen im Aqua-Fitness-Markt. \nDas erwartet die Teilnehmenden \n\n4 Kurse im Tiefwasser\n7 Kurse im Flachwasser\nEin vielseitiges Programm mit internationalen Top-Presenter:innen\, die frische Impulse und aktuelle Trends direkt in die Praxis bringen.\n\nInternationale Presenter \n\nJelena Urbach\nSergej Jerpyliov\nMagdalena Staniszewska\nKatrin Kühn\nSandra Eberlein\nKatja Schljachow\nCaren Pieritz
URL:https://weloveaquasports.com/termin/20-aqua-festival/
LOCATION:wildorado
CATEGORIES:AQUAFITNESS
ATTACH;FMTTYPE=image/png:https://weloveaquasports.com/wp-content/uploads/2024/05/184-TWM-185.png
END:VEVENT
END:VCALENDAR